BEGIN:VCALENDAR
VERSION:2.0
PRODID:-//Academy Swiss D&#039;Esthétique - ECPv6.15.20//NONSGML v1.0//EN
CALSCALE:GREGORIAN
METHOD:PUBLISH
X-ORIGINAL-URL:https://acadyse.ch
X-WR-CALDESC:Évènements pour Academy Swiss D&#039;Esthétique
REFRESH-INTERVAL;VALUE=DURATION:PT1H
X-Robots-Tag:noindex
X-PUBLISHED-TTL:PT1H
BEGIN:VTIMEZONE
TZID:Europe/Paris
BEGIN:DAYLIGHT
TZOFFSETFROM:+0100
TZOFFSETTO:+0200
TZNAME:CEST
DTSTART:20230326T010000
END:DAYLIGHT
BEGIN:STANDARD
TZOFFSETFROM:+0200
TZOFFSETTO:+0100
TZNAME:CET
DTSTART:20231029T010000
END:STANDARD
BEGIN:DAYLIGHT
TZOFFSETFROM:+0100
TZOFFSETTO:+0200
TZNAME:CEST
DTSTART:20240331T010000
END:DAYLIGHT
BEGIN:STANDARD
TZOFFSETFROM:+0200
TZOFFSETTO:+0100
TZNAME:CET
DTSTART:20241027T010000
END:STANDARD
BEGIN:DAYLIGHT
TZOFFSETFROM:+0100
TZOFFSETTO:+0200
TZNAME:CEST
DTSTART:20250330T010000
END:DAYLIGHT
BEGIN:STANDARD
TZOFFSETFROM:+0200
TZOFFSETTO:+0100
TZNAME:CET
DTSTART:20251026T010000
END:STANDARD
END:VTIMEZONE
BEGIN:VTIMEZONE
TZID:Europe/Paris
BEGIN:DAYLIGHT
TZOFFSETFROM:+0100
TZOFFSETTO:+0200
TZNAME:CEST
DTSTART:20230326T010000
END:DAYLIGHT
BEGIN:STANDARD
TZOFFSETFROM:+0200
TZOFFSETTO:+0100
TZNAME:CET
DTSTART:20231029T010000
END:STANDARD
BEGIN:DAYLIGHT
TZOFFSETFROM:+0100
TZOFFSETTO:+0200
TZNAME:CEST
DTSTART:20240331T010000
END:DAYLIGHT
BEGIN:STANDARD
TZOFFSETFROM:+0200
TZOFFSETTO:+0100
TZNAME:CET
DTSTART:20241027T010000
END:STANDARD
BEGIN:DAYLIGHT
TZOFFSETFROM:+0100
TZOFFSETTO:+0200
TZNAME:CEST
DTSTART:20250330T010000
END:DAYLIGHT
BEGIN:STANDARD
TZOFFSETFROM:+0200
TZOFFSETTO:+0100
TZNAME:CET
DTSTART:20251026T010000
END:STANDARD
END:VTIMEZONE
BEGIN:VEVENT
DTSTART;VALUE=DATE:20240504
DTEND;VALUE=DATE:20240506
DTSTAMP:20260421T174338
CREATED:20240423T010523Z
LAST-MODIFIED:20240423T031419Z
UID:1215-1714780800-1714953599@acadyse.ch
SUMMARY:SIWELL - Palexpo SA
DESCRIPTION:23LE SALON DE LA BEAUTÉ ET DE L’ESTHÉTIQUE \nLa 17ème édition du SIWELL se déroulera le 4 et 5 mai 2024 dans la Halle 3 de Palexpo à Genève. \nLe salon vous propose divers secteurs d’activités correspondant aux nouveautés pour les professionnelles de la branche ainsi qu’aux besoins de la femme active d’aujourd’hui.
URL:https://acadyse.ch/event/siwell-palexpo-sa/
LOCATION:Route François-Peyrot 30  1218 Grand-Saconnex\, Route François-Peyrot 30\, Grand-Saconnex\, 1218\, Suisse
CATEGORIES:exposition
ORGANIZER;CN="St%C3%A9phane Godet":MAILTO:sg@publicium.ch
END:VEVENT
BEGIN:VEVENT
DTSTART;TZID=Europe/Paris:20240525T140000
DTEND;TZID=Europe/Paris:20240525T180000
DTSTAMP:20260421T174338
CREATED:20240423T032041Z
LAST-MODIFIED:20240524T005245Z
UID:23845-1716645600-1716660000@acadyse.ch
SUMMARY:PORTES OUVERTES D'EXCEPTION
DESCRIPTION:RENCONTRE\nRencontrez notre équipe pédagogique et discutez avec nos formatrices pour découvrir ce qui rend notre école si unique.\nPosez toutes vos questions sur nos programmes de formation\, nos certifications\, les débouchés professionnels et les possibilités de financement. \nDÉMONSTRATION\nAssistez à des démonstrations et des ateliers de soins du visage\, de massages\, de manucure et bien plus encore\, réalisées par nos formateurs(trices) expérimenté(e)s ou\nvous pourrez y participer. \nAPÉRITIF DINATOIRE\nVenez partager un moment avec nous autour d’un verre et des petits fours. \nOFFRE EXCLUSIVE ! RÉDUCTION 10% SUR NOS FORMATIONS ONGLERIE
URL:https://acadyse.ch/event/porte-ouverte-dexception/
LOCATION:CHEMIN DU PAVILLON 2\, CHEMIN DU PAVILLON 2\, GRAND SACONNEX\, 1218\, Suisse
CATEGORIES:PORTE OUVERTE
ORGANIZER;CN="Astrid JAGGI":MAILTO:direction@acadyse.ch
END:VEVENT
END:VCALENDAR